{"text_format":"3","workbook":"xlsx","n_sheets":6,"sheets":["расчет затраты на опл.труда","Расчет цены кружка","Расчет накладных затрат","Калькуляция","Аглийский затраты","Логопед затраты"],"not_rendered":{"defined_names":2},"read":"whole","date_system":"1900"}

{"sheet":"расчет затраты на опл.труда","index":0,"n_rows":13,"n_cols":7,"rows_kept":13,"merged":[[0,0,0,6],[1,0,1,6],[12,0,12,1]]}
["Калькуляционный метод формирования цены на платные услуги 2023 - 2024 год"]
["РАСЧЕТ\nЗАТРАТ НА ОПЛАТУ ТРУДА ОСНОВНОГО ПЕРСОНАЛА, НЕПОСРЕДСТВЕННО\nУЧАСТВУЮЩЕГО В ПРОЦЕССЕ ОКАЗАНИЯ ПЛАТНОЙ УСЛУГИ\n"]
["№ п/п","Фамилия педагога","Должность","Средняя  заработная плата, включая начисления на выплаты по оплате труда, рублей в месяц","Месячный фонд рабочего времени, минут","Норма времени на оказание платной услуги, минут","Затраты на оплату труда персонала, рублей"]
[1,2,3,4,5,6,7]
[1,"Галиуллина А.В.                                     \"Лего мастер\"","Психолог",{"$f":"(31952.8*1.302)","v":{"v":41602.5456,"d":"41602.55"}},{"$f":"F5*4*60","v":7200},30,{"$f":"D5/E5*F5","v":{"v":173.34393999999998,"d":"173.34"}}]
[2,"Идрисова Ч.                               \"Белая ладья\"","Воспитатель по обучению тат. языкам",{"$f":"35671.22*1.302","v":{"v":46443.92844,"d":"46443.93"}},4320,18,{"v":193.51636850000003,"d":"193.52"}]
[3,"Касымова В. В.              \"Мир открытий\"","Воспитатель",{"$f":"(33216.23*1.302)","v":{"v":43247.531460000006,"d":"43247.53"}},8640,36,{"v":180.19804775000003,"d":"180.20"}]
[4,"Кириченко Ольга Марсовна \"Детский фитнес\"","Инструктор по физической культуре",{"$f":"(28065.54*1.302)","v":{"v":36541.333080000004,"d":"36541.33"}},7200,30,{"v":152.25555450000002,"d":"152.26"}]
[5,"Никольская О.Т.                    \"Мир открытий\"","Воспитатель ",{"$f":"(33216.23*1.302)","v":{"v":43247.531460000006,"d":"43247.53"}},8640,36,{"v":180.19804775000003,"d":"180.20"}]
[6,"Соловьева Д.И. \"Английский язык\"","Воспитатель",{"$f":"(36007.33* 1.302)","v":{"v":46881.54366,"d":"46881.54"}},8640,36,{"v":195.33976525000003,"d":"195.34"}]
[7,"Хамидуллина А.О.                     \"Магия танца\"","Хореограф",{"$f":"(24756.39*1.302)","v":{"v":32232.81978,"d":"32232.82"}},5760,24,{"v":134.30341575,"d":"134.30"}]
[8,"Черняева С.В.          \"По дороге к школе\"","Воспитатель ",{"$f":"(34007.096*1.302)","v":{"v":44277.238992,"d":"44277.24"}},8640,36,{"v":184.48849579999998,"d":"184.49"}]
["Итого:",null,"Х","Х","Х","Х",{"$f":"SUM(G5:G12)","v":{"v":1393.6436353000001,"d":"1393.64"}}]

{"sheet":"Расчет цены кружка","index":1,"n_rows":19,"n_cols":14,"rows_kept":19,"merged":[[2,10,3,10],[6,1,6,13],[7,0,8,0],[7,1,8,4],[7,5,8,5],[7,6,7,13],[9,1,9,4],[10,1,10,4],[11,1,11,4],[12,1,12,4],[13,1,13,4],[14,1,14,4],[15,1,15,4],[16,1,16,4],[17,1,17,4],[18,1,18,4]]}
[]
[]
[]
[]
[]
[]
[null,"Расчет цены на оказание платной услуги по МБДОУ \"Детский сад общеразвивающего вида №3\" на  2023-2024г."]
["№ п/п","наименование статей затрат",{"$nulls":3},"ед.изм.","Наименование платного кружка"]
[{"$nulls":6},"\"Лего мастер\"","\"Белая ладья\"","\"Мир открытий\"","Деский фитнес","\"Мир открытий\"","\"Английский язык\""," \"Магия танца\"","По дороге к школе"]
[1,"Затраты на оплату труда основного персонала",{"$nulls":3},"руб.",{"$f":"'расчет затраты на опл.труда'!G5","v":{"v":173.34393999999998,"d":"173.34"}},{"$f":"'расчет затраты на опл.труда'!G6","v":{"v":193.51636850000003,"d":"193.52"}},{"$f":"'расчет затраты на опл.труда'!G7","v":{"v":180.19804775000003,"d":"180.20"}},{"$f":"'расчет затраты на опл.труда'!G8","v":{"v":152.25555450000002,"d":"152.26"}},{"$f":"'расчет затраты на опл.труда'!G9","v":{"v":180.19804775000003,"d":"180.20"}},{"$f":"'расчет затраты на опл.труда'!G10","v":{"v":195.33976525000003,"d":"195.34"}},{"$f":"'расчет затраты на опл.труда'!G11","v":{"v":134.30341575,"d":"134.30"}},{"$f":"'расчет затраты на опл.труда'!G12","v":{"v":184.48849579999998,"d":"184.49"}}]
[2,"Затраты материальных запасов",{"$nulls":3},"руб.",{"v":0,"d":"0.00"},{"v":0,"d":"0.00"},{"v":0,"d":"0.00"},{"v":0,"d":"0.00"},{"v":0,"d":"0.00"},{"v":0,"d":"0.00"},{"v":0,"d":"0.00"},{"$f":"'Логопед затраты'!G12","v":83.75}]
[3,"Сумма начисленной амортизации оборудования используемого при оказании платных услуг",{"$nulls":3},"руб.",{"v":0,"d":"0.00"},{"v":0,"d":"0.00"},{"v":0,"d":"0.00"},{"v":0,"d":"0.00"},{"v":0,"d":"0.00"},{"v":0,"d":"0.00"},{"v":0,"d":"0.00"},{"v":0,"d":"0.00"}]
[4,"Накладные затраты относимые на платную услугу",{"$nulls":3},"руб.",{"$f":"'Расчет накладных затрат'!E13","v":{"v":396.4559158848797,"d":"396.46"}},{"$f":"'Расчет накладных затрат'!F13","v":{"v":442.5923923985079,"d":"442.59"}},{"$f":"'Расчет накладных затрат'!G13","v":{"v":412.13198489311804,"d":"412.13"}},{"$f":"'Расчет накладных затрат'!H13","v":{"v":348.2245488815919,"d":"348.22"}},{"$f":"'Расчет накладных затрат'!I13","v":{"v":412.13198489311804,"d":"412.13"}},{"$f":"'Расчет накладных затрат'!J13","v":{"v":446.762693526674,"d":"446.76"}},{"$f":"'Расчет накладных затрат'!K13","v":{"v":307.1661097447885,"d":"307.17"}},{"$f":"'Расчет накладных затрат'!L13","v":{"v":421.94469314942756,"d":"421.94"}}]
[5,"Итого затрат на 1 услугу",{"$nulls":3},"руб.",{"$f":"G10+G11+G12+G13","v":{"v":569.7998558848797,"d":"569.80"}},{"$f":"H10+H11+H12+H13","v":{"v":636.108760898508,"d":"636.11"}},{"$f":"I10+I11+I12+I13","v":{"v":592.3300326431181,"d":"592.33"}},{"$f":"J10+J11+J12+J13","v":{"v":500.4801033815919,"d":"500.48"}},{"$f":"K10+K11+K12+K13","v":{"v":592.3300326431181,"d":"592.33"}},{"v":642.102458776674,"d":"642.10"},{"v":441.4695254947885,"d":"441.47"},{"v":690.1831889494276,"d":"690.18"}]
[6,"Рентабельность %",{"$nulls":3},"руб.",{"$f":"G14*20%","v":{"v":113.95997117697594,"d":"113.96"}},{"$f":"H14*30%","v":{"v":190.83262826955237,"d":"190.83"}},{"$f":"I14*30%","v":{"v":177.6990097929354,"d":"177.70"}},{"$f":"J14*30%","v":{"v":150.14403101447758,"d":"150.14"}},{"$f":"K14*30%","v":{"v":177.6990097929354,"d":"177.70"}},{"$f":"L14*30%","v":{"v":192.63073763300218,"d":"192.63"}},{"v":132.44085764843655,"d":"132.44"},{"v":207.05495668482828,"d":"207.05"}]
[7,"Затраты с учётом рентабельности",{"$nulls":3},"руб.",{"$f":"G14+G15","v":{"v":683.7598270618556,"d":"683.76"}},{"$f":"H14+H15","v":{"v":826.9413891680604,"d":"826.94"}},{"$f":"I14+I15","v":{"v":770.0290424360535,"d":"770.03"}},{"$f":"J14+J15","v":{"v":650.6241343960695,"d":"650.62"}},{"$f":"K14+K15","v":{"v":770.0290424360535,"d":"770.03"}},{"v":834.7331964096761,"d":"834.73"},{"v":573.9103831432251,"d":"573.91"},{"v":897.2381456342559,"d":"897.24"}]
[8,"Плановое количество оказываемых услуг в месяц",{"$nulls":3},"занятий",{"v":8,"d":"8.00"},{"v":8,"d":"8.00"},{"v":8,"d":"8.00"},{"v":8,"d":"8.00"},{"v":8,"d":"8.00"},{"v":8,"d":"8.00"},{"v":8,"d":"8.00"},{"v":8,"d":"8.00"}]
[9,"Цена платной услуги в месяц",{"$nulls":3},"руб.",{"$f":"G16*G17","v":{"v":5470.078616494845,"d":"5470.08"}},{"$f":"H16*H17","v":{"v":6615.531113344483,"d":"6615.53"}},{"$f":"I16*I17","v":{"v":6160.232339488428,"d":"6160.23"}},{"$f":"J16*J17","v":{"v":5204.993075168556,"d":"5204.99"}},{"$f":"K16*K17","v":{"v":6160.232339488428,"d":"6160.23"}},{"v":6677.865571277409,"d":"6677.87"},{"v":4591.283065145801,"d":"4591.28"},{"v":7177.9051650740475,"d":"7177.91"}]
[10,"Цена платной услуги в месяц с учётом НДС",{"$nulls":3},"руб.",{"$f":"G18","v":{"v":5470.078616494845,"d":"5470.08"}},{"$f":"H18","v":{"v":6615.531113344483,"d":"6615.53"}},{"$f":"I18","v":{"v":6160.232339488428,"d":"6160.23"}},{"$f":"J18","v":{"v":5204.993075168556,"d":"5204.99"}},{"$f":"K18","v":{"v":6160.232339488428,"d":"6160.23"}},{"v":6677.865571277409,"d":"6677.87"},{"v":4591.283065145801,"d":"4591.28"},{"v":7177.9051650740475,"d":"7177.91"}]

{"sheet":"Расчет накладных затрат","index":2,"n_rows":13,"n_cols":12,"rows_kept":13,"merged":[[1,0,2,12],[3,5,3,8],[5,2,5,3],[6,2,6,3],[7,2,7,3],[8,2,8,3],[9,2,9,3],[10,2,10,3],[11,2,11,3],[12,2,12,3]]}
[]
["Расчет накладных затрат,                                                                                                                                                                                                                                                                                                       необходимых для обеспечения деятельности учреждения при оказании платной услуги"]
[]
[{"$nulls":5},"2023-2024 год"]
[]
[null,"N  ","Наименование статей затрат",null,"\"Лего мастер\"","\"Белая ладья\"","\"Мир открытий\"","Деский фитнес","\"Мир открытий\"","\"Английский язык\""," \"Магия танца\"","По дороге к школе"]
[null,1,"Прогноз затрат на административно-управленческий персонал",null,{"$f":"81.472*0.12*1.302","v":{"v":12.72918528,"d":"12.73"}},{"$f":"81.472*0.12*1.302","v":{"v":12.72918528,"d":"12.73"}},{"v":12.72918528,"d":"12.73"},{"v":12.72918528,"d":"12.73"},{"v":12.72918528,"d":"12.73"},{"v":12.72918528,"d":"12.73"},{"v":12.72918528,"d":"12.73"},{"v":12.72918528,"d":"12.73"}]
[null,2,"Затраты на материальные запасы",null,0,0,0,0,0,0,0,0]
[null,3,"Прогноз суммы начисленной амортизации имущества общехозяйственного назначения",null,{"v":0,"d":"0.00"},{"v":0,"d":"0.00"},{"v":0,"d":"0.00"},{"v":0,"d":"0.00"},{"v":0,"d":"0.00"},{"v":0,"d":"0.00"},{"v":0,"d":"0.00"},{"v":0,"d":"0.00"}]
[null,4,"Прогноз суммарного фонда оплаты труда основного персонала",null,{"$f":"(40.415*0.456)*0.302","v":{"v":5.56563048,"d":"5.57"}},{"$f":"(40.415*0.456)*0.302","v":{"v":5.56563048,"d":"5.57"}},{"v":5.56563048,"d":"5.57"},{"v":5.56563048,"d":"5.57"},{"v":5.56563048,"d":"5.57"},{"v":5.56563048,"d":"5.57"},{"v":5.56563048,"d":"5.57"},{"v":5.56563048,"d":"5.57"}]
[null,5,"Коэффициент накладных затрат",null,{"$f":"(E7+E8+E9)/E10","v":{"v":2.287105715289959,"d":"2.29"}},{"$f":"(F7+F8+F9)/F10","v":{"v":2.287105715289959,"d":"2.29"}},{"$f":"(G7+G8+G9)/G10","v":{"v":2.287105715289959,"d":"2.29"}},{"$f":"(H7+H8+H9)/H10","v":{"v":2.287105715289959,"d":"2.29"}},{"$f":"(I7+I8+I9)/I10","v":{"v":2.287105715289959,"d":"2.29"}},{"$f":"(J7+J8+J9)/J10","v":{"v":2.287105715289959,"d":"2.29"}},{"v":2.287105715289959,"d":"2.29"},{"v":2.287105715289959,"d":"2.29"}]
[null,6,"Затраты  на основной  персонал, участвующий в предоставлении платной услуги",null,{"$f":"'Расчет цены кружка'!G10","v":{"v":173.34393999999998,"d":"173.34"}},{"$f":"'Расчет цены кружка'!H10","v":{"v":193.51636850000003,"d":"193.52"}},{"$f":"'Расчет цены кружка'!I10","v":{"v":180.19804775000003,"d":"180.20"}},{"$f":"'Расчет цены кружка'!J10","v":{"v":152.25555450000002,"d":"152.26"}},{"$f":"'Расчет цены кружка'!K10","v":{"v":180.19804775000003,"d":"180.20"}},{"$f":"'Расчет цены кружка'!L10","v":{"v":195.33976525000003,"d":"195.34"}},{"$f":"'Расчет цены кружка'!M10","v":{"v":134.30341575,"d":"134.30"}},{"$f":"'Расчет цены кружка'!N10","v":{"v":184.48849579999998,"d":"184.49"}}]
[null,7,"Итого накладных затрат",null,{"$f":"E11*E12","v":{"v":396.4559158848797,"d":"396.46"}},{"$f":"F11*F12","v":{"v":442.5923923985079,"d":"442.59"}},{"$f":"G11*G12","v":{"v":412.13198489311804,"d":"412.13"}},{"$f":"H11*H12","v":{"v":348.2245488815919,"d":"348.22"}},{"$f":"I11*I12","v":{"v":412.13198489311804,"d":"412.13"}},{"$f":"J11*J12","v":{"v":446.762693526674,"d":"446.76"}},{"v":307.1661097447885,"d":"307.17"},{"v":421.94469314942756,"d":"421.94"}]

{"sheet":"Калькуляция","index":3,"n_rows":17,"n_cols":14,"rows_kept":17,"merged":[[0,0,0,13],[2,0,3,0],[2,1,3,1],[2,2,3,2],[2,3,3,3],[2,4,2,7],[2,8,3,8],[2,9,3,9],[2,10,3,10],[2,11,3,11],[2,12,3,12],[2,13,3,13],[13,0,13,3],[13,4,13,7],[16,0,16,3],[16,4,16,6]]}
["Калькуляция   на 2023 - 2024 учебный год МБДОУ \"Детский сад №3\" НМР РТ"]
[]
["№ п/п","ФИО","Наименование кружка","Наименование должности","Наименование статей затрат",{"$nulls":3},"ИТОГО затрат","Рента-бельность, %","Затраты с учетом рента-бельности","Плановое количество оказываемых услуг","Фактическая цена платной услуги","Стоимость платной услуги"]
[{"$nulls":4},"Затраты на оплату труда","Затраты на материальные запасы","Сумма начисленной амортизации оборудования, используемого при оказании платной услуги","Накладные затраты, относимые на платную услугу"]
[1,"Галиуллина А.В."," \"Лего мастер\"","Психолог",{"$f":"'расчет затраты на опл.труда'!G5","v":{"v":173.34393999999998,"d":"173.34"}},{"v":0,"d":"0.00"},{"v":0,"d":"0.00"},{"$f":"'Расчет накладных затрат'!E13","v":{"v":396.4559158848797,"d":"396.46"}},{"$f":"E5+F5+G5+H5","v":{"v":569.7998558848797,"d":"569.80"}},20,{"$f":"I5*1.2","v":{"v":683.7598270618556,"d":"683.76"}},8,{"$f":"L5*K5","v":{"v":5470.078616494845,"d":"5,470.08"}},{"v":800,"d":"800.00"}]
[2,"Идрисова Ч."," \"Белая ладья\"","Воспитатель",{"$f":"'расчет затраты на опл.труда'!G6","v":{"v":193.51636850000003,"d":"193.52"}},{"v":0,"d":"0.00"},{"v":0,"d":"0.00"},{"$f":"'Расчет накладных затрат'!F13","v":{"v":442.5923923985079,"d":"442.59"}},{"$f":"E6+F6+G6+H6","v":{"v":636.108760898508,"d":"636.11"}},20,{"$f":"I6*1.2","v":{"v":763.3305130782095,"d":"763.33"}},8,{"$f":"L6*K6","v":{"v":6106.644104625676,"d":"6,106.64"}},{"v":600,"d":"600.00"}]
[3,"Касымова В. В. ","\"Мир открытий\"","Воспитатель",{"$f":"'расчет затраты на опл.труда'!G7","v":{"v":180.19804775000003,"d":"180.20"}},{"v":0,"d":"0.00"},{"v":0,"d":"0.00"},{"$f":"'Расчет накладных затрат'!G13","v":{"v":412.13198489311804,"d":"412.13"}},{"$f":"E7+F7+G7+H7","v":{"v":592.3300326431181,"d":"592.33"}},20,{"$f":"I7*1.2","v":{"v":710.7960391717417,"d":"710.80"}},8,{"$f":"L7*K7","v":{"v":5686.368313373933,"d":"5,686.37"}},{"v":600,"d":"600.00"}]
[4,"Кириченко О.М.","\"Детский фитнес","Инструктор по физической культуре",{"$f":"'расчет затраты на опл.труда'!G8","v":{"v":152.25555450000002,"d":"152.26"}},{"v":0,"d":"0.00"},{"v":0,"d":"0.00"},{"$f":"'Расчет накладных затрат'!H13","v":{"v":348.2245488815919,"d":"348.22"}},{"$f":"E8+F8+G8+H8","v":{"v":500.4801033815919,"d":"500.48"}},21,{"$f":"I8*1.2","v":{"v":600.5761240579103,"d":"600.58"}},9,{"$f":"L8*K8","v":{"v":5405.185116521193,"d":"5,405.19"}},{"v":601,"d":"601.00"}]
[5,"Никольская О.В.","\"Мир открытий\"","Воспитатель",{"$f":"'расчет затраты на опл.труда'!G9","v":{"v":180.19804775000003,"d":"180.20"}},{"v":0,"d":"0.00"},{"v":0,"d":"0.00"},{"$f":"'Расчет накладных затрат'!I13","v":{"v":412.13198489311804,"d":"412.13"}},{"$f":"E9+F9+G9+H9","v":{"v":592.3300326431181,"d":"592.33"}},20,{"$f":"I9*1.2","v":{"v":710.7960391717417,"d":"710.80"}},8,{"$f":"L9*K9","v":{"v":5686.368313373933,"d":"5,686.37"}},{"v":600,"d":"600.00"}]
[6,"Соловьева Д.И.","\"Английский язык\"","Воспитатель",{"$f":"'расчет затраты на опл.труда'!G10","v":{"v":195.33976525000003,"d":"195.34"}},{"v":0,"d":"0.00"},{"v":0,"d":"0.00"},{"$f":"'Расчет накладных затрат'!J13","v":{"v":446.762693526674,"d":"446.76"}},{"$f":"E10+F10+G10+H10","v":{"v":642.102458776674,"d":"642.10"}},20,{"$f":"I10*1.2","v":{"v":770.5229505320087,"d":"770.52"}},8,{"$f":"L10*K10","v":{"v":6164.18360425607,"d":"6,164.18"}},{"v":600,"d":"600.00"}]
[7,"Хамидуллина А.О.     "," \"Магия танца\"","Хореограф",{"$f":"'расчет затраты на опл.труда'!G11","v":{"v":134.30341575,"d":"134.30"}},{"v":0,"d":"0.00"},{"v":0,"d":"0.00"},{"$f":"'Расчет накладных затрат'!K13","v":{"v":307.1661097447885,"d":"307.17"}},{"$f":"E11+F11+G11+H11","v":{"v":441.4695254947885,"d":"441.47"}},20,{"$f":"I11*1.2","v":{"v":529.7634305937462,"d":"529.76"}},8,{"$f":"L11*K11","v":{"v":4238.1074447499695,"d":"4,238.11"}},{"v":800,"d":"800.00"}]
[8,"Черняева С.В."," \"Звукознайка\"","Воспитатель",{"$f":"'расчет затраты на опл.труда'!G12","v":{"v":184.48849579999998,"d":"184.49"}},{"v":0,"d":"0.00"},{"v":0,"d":"0.00"},{"$f":"'Расчет накладных затрат'!L13","v":{"v":421.94469314942756,"d":"421.94"}},{"$f":"E12+F12+G12+H12","v":{"v":606.4331889494275,"d":"606.43"}},10,{"$f":"I12*1.1","v":{"v":667.0765078443703,"d":"667.08"}},8,{"$f":"L12*K12","v":{"v":5336.612062754963,"d":"5,336.61"}},{"v":1800,"d":"1,800.00"}]
[]
["Заведующий",{"$nulls":3},"______________Р.Г. Ганиева "]
[]
[]
["                              Главный бухгалтер",{"$nulls":3},"______________Э.Г. Якупова"]

{"sheet":"Аглийский затраты","index":4,"n_rows":9,"n_cols":7,"rows_kept":9,"merged":[[0,0,0,6],[1,0,1,6],[2,0,2,6],[8,0,8,5]]}
["РАСЧЕТ"]
["затрат на материальные запасы, полностью потребляемые"]
["в процессе оказания платной услуги (работы)"]
[]
["№ п/п","Наименование товара, составляющего материальный запас","Ед. изм.","Норма потребления","Объем оказания платных услуг за норму времени","Цена за единицу (ср.рын.стоим., на 01.09.23г.)","Всего затрат материальных запасов"]
[1,2,3,4,5,6,7]
[1,"Тетрадь","шт",15,30,10,{"$f":"D7*F7","v":150}]
[2,"Ручка","шт",30,30,20,{"$f":"D8*F8","v":600}]
["ИТОГО",{"$nulls":5},{"$f":"SUM(G7:G8)/8","v":93.75}]

{"sheet":"Логопед затраты","index":5,"n_rows":12,"n_cols":7,"rows_kept":12,"merged":[[0,0,0,6],[1,0,1,6],[2,0,2,6],[11,0,11,5]]}
["РАСЧЕТ"]
["затрат на материальные запасы, полностью потребляемые"]
["в процессе оказания платной услуги (работы)"]
[]
["№ п/п","Наименование товара, составляющего материальный запас","Ед. изм.","Норма потребления","Объем оказания платных услуг за норму времени","Цена за единицу (ср.рын.стоим., на 01.09.19г.)","Всего затрат материальных запасов"]
[1,2,3,4,5,6,7]
[1,"Краски","шт",5,30,30,{"$f":"D7*F7","v":150}]
[2,"Кисти","шт",10,30,10,{"$f":"D8*F8","v":100}]
[3,"Альбомы","шт",5,30,30,150]
[4,"Карандаши цветные","шт",3,30,70,210]
[5,"Мелки восковые","шт",3,30,20,60]
["ИТОГО",{"$nulls":5},{"$f":"SUM(G7:G11)/8","v":83.75}]